BEGIN:VCALENDAR
VERSION:2.0
PRODID:-//PPHM Melaka | Pertubuhan Pencinta Hidupan Melaka | 马六甲生命护生园 - ECPv6.2.2//NONSGML v1.0//EN
CALSCALE:GREGORIAN
METHOD:PUBLISH
X-ORIGINAL-URL:https://www.mypphm.org
X-WR-CALDESC:Events for PPHM Melaka | Pertubuhan Pencinta Hidupan Melaka | 马六甲生命护生园
REFRESH-INTERVAL;VALUE=DURATION:PT1H
X-Robots-Tag:noindex
X-PUBLISHED-TTL:PT1H
BEGIN:VTIMEZONE
TZID:Asia/Shanghai
BEGIN:STANDARD
TZOFFSETFROM:+0800
TZOFFSETTO:+0800
TZNAME:CST
DTSTART:20250101T000000
END:STANDARD
END:VTIMEZONE
BEGIN:VEVENT
DTSTART;TZID=Asia/Shanghai:20260111T100000
DTEND;TZID=Asia/Shanghai:20260111T160000
DTSTAMP:20260424T021018
CREATED:20250110T172004Z
LAST-MODIFIED:20260422T172540Z
UID:10000014-1768125600-1768147200@www.mypphm.org
SUMMARY:2026 January Adoption Drive
DESCRIPTION:
URL:https://www.mypphm.org/event/2026-january-adoption-drive/
CATEGORIES:Adoption
ATTACH;FMTTYPE=image/jpeg:https://www.mypphm.org/wp-content/uploads/2026/04/600387033_839524558710021_7534376608221217586_n.jpg
ORGANIZER;CN="PPHM":MAILTO:info@mypphm.org
END:VEVENT
BEGIN:VEVENT
DTSTART;TZID=Asia/Shanghai:20251116T090000
DTEND;TZID=Asia/Shanghai:20251116T170000
DTSTAMP:20260424T021018
CREATED:20251115T163508Z
LAST-MODIFIED:20260422T172559Z
UID:10000005-1763283600-1763312400@www.mypphm.org
SUMMARY:2025 November JCI & Lion Club Melaka pet fair\, adoption drive at reserve 29 melaka
DESCRIPTION:
URL:https://www.mypphm.org/event/2025-november-jci-lion-club-melaka-pet-fair-adoption-drive-at-reserve-29-melaka/
CATEGORIES:Adoption
ATTACH;FMTTYPE=image/jpeg:https://www.mypphm.org/wp-content/uploads/2026/04/1-1.jpg
ORGANIZER;CN="PPHM":MAILTO:info@mypphm.org
END:VEVENT
END:VCALENDAR