BEGIN:VCALENDAR
VERSION:2.0
PRODID:-//PPHM Melaka | Pertubuhan Pencinta Hidupan Melaka | 马六甲生命护生园 - ECPv6.2.2//NONSGML v1.0//EN
CALSCALE:GREGORIAN
METHOD:PUBLISH
X-ORIGINAL-URL:https://www.mypphm.org
X-WR-CALDESC:Events for PPHM Melaka | Pertubuhan Pencinta Hidupan Melaka | 马六甲生命护生园
REFRESH-INTERVAL;VALUE=DURATION:PT1H
X-Robots-Tag:noindex
X-PUBLISHED-TTL:PT1H
BEGIN:VTIMEZONE
TZID:Asia/Shanghai
BEGIN:STANDARD
TZOFFSETFROM:+0800
TZOFFSETTO:+0800
TZNAME:CST
DTSTART:20250101T000000
END:STANDARD
END:VTIMEZONE
BEGIN:VEVENT
DTSTART;VALUE=DATE:20250901
DTEND;VALUE=DATE:20251001
DTSTAMP:20260424T021018
CREATED:20250831T164306Z
LAST-MODIFIED:20260422T172757Z
UID:10000006-1756684800-1759276799@www.mypphm.org
SUMMARY:September 2025 Life Education form\, 生命教育
DESCRIPTION:
URL:https://www.mypphm.org/event/september-2025-life-education-form-%e7%94%9f%e5%91%bd%e6%95%99%e8%82%b2/
CATEGORIES:Education
ATTACH;FMTTYPE=image/jpeg:https://www.mypphm.org/wp-content/uploads/2026/04/2-2.jpg
ORGANIZER;CN="PPHM":MAILTO:info@mypphm.org
END:VEVENT
END:VCALENDAR